BEGIN:VCALENDAR
VERSION:2.0
CALSCALE:GREGORIAN
PRODID:adamgibbons/ics
METHOD:PUBLISH
X-PUBLISHED-TTL:PT1H
BEGIN:VEVENT
UID:7874@eif.convoca.la
SUMMARY:XXIV Mostra del Llibre Anarquista de València
DTSTAMP:20260421T083752Z
DTSTART:20260420T170000Z
DTEND:20260426T193000Z
URL:https://eif.convoca.la/event/xxiv-mostra-del-llibre-anarquista-de-valen
	cia
GEO:39.3342;-0.797347
LOCATION:Múltiples llocs - València / Valencia\, Comunitat Valenciana\, Esp
	aña
STATUS:CONFIRMED
CATEGORIES:XXIV Mostra del Llibre Anarquista,anarquisme,benimaclet,cabanyal
	,ciutat vella,llibres,mislata,presentació,torrefiel,valencia,valència,xerr
	ada
END:VEVENT
BEGIN:VEVENT
UID:8437@eif.convoca.la
SUMMARY:Presentació Amparo Poch y Gascón i El Punt
DTSTAMP:20260421T083752Z
DTSTART:20260421T160000Z
DTEND:20260421T180000Z
URL:https://eif.convoca.la/event/presentacio-amparo-poch-y-gascon-i-el-punt
GEO:39.4956;-0.376561
LOCATION:El Punt - C/ de Josep Esteve 46\, Torrefiel\, 46019 València
STATUS:CONFIRMED
CATEGORIES:El Punt,XXIV Mostra del Llibre Anarquista,espurnes i foscors,fem
	inismes,llibres,memòria històrica,valencia,valència
END:VEVENT
BEGIN:VEVENT
UID:8652@eif.convoca.la
SUMMARY:Cine ex en La Dàhlia
DTSTAMP:20260421T083752Z
DTSTART:20260422T170000Z
DTEND:20260422T190000Z
URL:https://eif.convoca.la/event/cine-ex-en-la-dahlia
GEO:39.4725;-0.410465
LOCATION:Iniciativa Dahlia - Carrer camí vell de Xirivella\, 23\, 46014\, V
	alència
STATUS:CONFIRMED
CATEGORIES:Iniciativa Dahlia,XXIV Mostra del Llibre Anarquista,art,cinema,m
	islata,valencia,valència
END:VEVENT
BEGIN:VEVENT
UID:8856@eif.convoca.la
SUMMARY:Dijous de Mostra a la Meme
DTSTAMP:20260421T083752Z
DTSTART:20260423T153000Z
DTEND:20260423T210000Z
URL:https://eif.convoca.la/event/dijous-de-mostra-a-la-meme
GEO:39.4902;-0.357929
LOCATION:Escola Meme - Calle Poeta Ricard Sanmartí\, 17
STATUS:CONFIRMED
CATEGORIES:XXIV Mostra del Llibre Anarquista,anticapitalisme,anticolonialis
	me,antiracisme,queer,transfeminismes,valencia,valència
END:VEVENT
BEGIN:VEVENT
UID:8824@eif.convoca.la
SUMMARY:Presentació del llibre 'Técnica y tecnología: cómo conversar con un
	 tecnófilo'
DTSTAMP:20260421T083752Z
DTSTART:20260424T160000Z
DTEND:20260424T180000Z
URL:https://eif.convoca.la/event/presentacio-del-llibre-tecnica-y-tecnologi
	a-como-conversar-con-un-tecnofilo
GEO:39.4775;-0.37802
LOCATION:La Mandrágora - C/Mare Vella\, 15 Bajo Izquierda\, 46020
STATUS:CONFIRMED
CATEGORIES:La Mandrágora,XXIV Mostra del Llibre Anarquista,anarquisme,ciuta
	t vella,llibres,presentació llibre,sobirania tecnològica,tecnologia,valenc
	ia,valència
END:VEVENT
BEGIN:VEVENT
UID:8362@eif.convoca.la
SUMMARY:Exposició: Caravana a fronteres de la UE. Relat de les polítiques m
	igratories europees
DTSTAMP:20260421T083752Z
DTSTART:20260424T183000Z
DTEND:20260426T190000Z
URL:https://eif.convoca.la/event/exposicio-caravana-a-fronteres-de-la-ue-re
	lat-de-les-politiques-migratories-europees
GEO:39.4795;-0.377278
LOCATION:Casal Falles Populars i Combatives - Carrer de Garcilaso\, 11\, 46
	003\, València
STATUS:CONFIRMED
CATEGORIES:XXIV Mostra del Llibre Anarquista,antirracisme,ciutat vella,expo
	sició,valencia,valència
END:VEVENT
BEGIN:VEVENT
UID:8865@eif.convoca.la
SUMMARY:Traca final de la Mostra
DTSTAMP:20260421T083752Z
DTSTART:20260425T080000Z
DTEND:20260426T190000Z
URL:https://eif.convoca.la/event/traca-final-de-la-mostra
GEO:39.4791;-0.37837
LOCATION:Plaça del Carme - Plaça del Carme
STATUS:CONFIRMED
CATEGORIES:XXIV Mostra del Llibre Anarquista,llibres,valencia,valència
END:VEVENT
BEGIN:VEVENT
UID:8786@eif.convoca.la
SUMMARY:Concert - Genderlexx + Inkuirsición
DTSTAMP:20260421T083752Z
DTSTART:20260425T190000Z
DTEND:20260425T215500Z
URL:https://eif.convoca.la/event/concert-genderlexx-inkuirsicion
GEO:39.4757;-0.377993
LOCATION:CSOA CSN - C/ Cadirers 2\, Ciutat Vella
STATUS:CONFIRMED
CATEGORIES:XXIV Mostra del Llibre Anarquista,ciutat vella,concert,queer,tra
	nsfeminismes,valencia,valència
END:VEVENT
BEGIN:VEVENT
UID:7669@eif.convoca.la
SUMMARY:12-O Tanquem les xarxes colonials
DTSTAMP:20260421T083752Z
DTSTART:20261011T220000Z
DTEND:20261011T220000Z
URL:https://eif.convoca.la/event/12-o-tanquem-les-xarxes-colonials
LOCATION:online - https:// per tot arreu
STATUS:CONFIRMED
CATEGORIES:XXIV Mostra del Llibre Anarquista,anticapitalisme,anticolonialis
	me,autogestió,descentralització,emancipació digital,fedivers,privacitat di
	gital,programari lliure,valencia,valència
END:VEVENT
END:VCALENDAR
